BEGIN:VCALENDAR
VERSION:2.0
PRODID:2° Aniversário OLD BROTHERS 
X-WR-CALNAME:2° Aniversário OLD BROTHERS 
X-WR-TIMEZONE:Europe/Lisbon
X-PUBLISHED-TTL:P1W
BEGIN:VTIMEZONE
TZID:Europe/Lisbon
X-LIC-LOCATION:Europe/Lisbon
END:VTIMEZONE
BEGIN:VEVENT
UID:69e735f116e1d
DTSTART;VALUE=DATE:20230520
SEQUENCE:0
TRANSP:OPAQUE
DTEND;VALUE=DATE:20230521
SUMMARY:2° Aniversário OLD BROTHERS 
CLASS:PUBLIC
DESCRIPTION:OLD BROTHERS 2° aniversárioCHURRASCO MOTARD&nbsp\;
X-MICROSOFT-CDO-ALLDAYEVENT:TRUE
DTSTAMP:20260421T083145Z
END:VEVENT
END:VCALENDAR