BEGIN:VCALENDAR
VERSION:2.0
PRODID:3.ª Sessão de esclarecimentos AIGP/BUPI
X-WR-CALNAME:3.ª Sessão de esclarecimentos AIGP/BUPI
X-WR-TIMEZONE:Europe/Lisbon
X-PUBLISHED-TTL:P1W
BEGIN:VTIMEZONE
TZID:Europe/Lisbon
X-LIC-LOCATION:Europe/Lisbon
END:VTIMEZONE
BEGIN:VEVENT
UID:69e7330ebbaab
DTSTART;VALUE=DATE:20230410
SEQUENCE:0
TRANSP:OPAQUE
DTEND;VALUE=DATE:20230411
SUMMARY:3.ª Sessão de esclarecimentos AIGP/BUPI
CLASS:PUBLIC
DESCRIPTION:3.ª Sessão de esclarecimentos - Área Integrada de Gestão de
  Paisagem (Terras do Lince - Malcata) 
X-MICROSOFT-CDO-ALLDAYEVENT:TRUE
DTSTAMP:20260421T081926Z
END:VEVENT
END:VCALENDAR