BEGIN:VCALENDAR
VERSION:2.0
PRODID:Folares da Páscoa 
X-WR-CALNAME:Folares da Páscoa 
X-WR-TIMEZONE:Europe/Lisbon
X-PUBLISHED-TTL:P1W
BEGIN:VTIMEZONE
TZID:Europe/Lisbon
X-LIC-LOCATION:Europe/Lisbon
END:VTIMEZONE
BEGIN:VEVENT
UID:69e621f564e32
DTSTART;VALUE=DATE:20230406
SEQUENCE:0
TRANSP:OPAQUE
DTEND;VALUE=DATE:20230407
SUMMARY:Folares da Páscoa 
CLASS:PUBLIC
DESCRIPTION:Participe na confecção dos tradicionais folares da Páscoa - 
 Forno Comunitário de Malcata. Aberto a toda a população. Venha particip
 ar 
X-MICROSOFT-CDO-ALLDAYEVENT:TRUE
DTSTAMP:20260420T125413Z
END:VEVENT
END:VCALENDAR